BEGIN:VCALENDAR
VERSION:2.0
PRODID:-//https://candlewoodknolls.com//NONSGML kigkonsult.se iCalcreator 2.41.71//
CALSCALE:GREGORIAN
METHOD:PUBLISH
UID:62316264-6162-4330-b831-333332656265
X-WR-CALNAME:JCal Pro Calendar
X-WR-CALDESC:Your online events calendar
X-WR-TIMEZONE:America/New_York
BEGIN:VTIMEZONE
TZID:America/New_York
TZUNTIL:20271107T060000Z
BEGIN:STANDARD
TZNAME:EST
DTSTART:20251102T020000
TZOFFSETFROM:-0400
TZOFFSETTO:-0500
RDATE:20261101T020000
END:STANDARD
BEGIN:DAYLIGHT
TZNAME:EDT
DTSTART:20260308T020000
TZOFFSETFROM:-0500
TZOFFSETTO:-0400
RDATE:20270314T020000
END:DAYLIGHT
END:VTIMEZONE
BEGIN:VEVENT
UID:20240722T103000UTC-5320mivLGu@https://candlewoodknolls.com/
DTSTAMP:20260425T152355Z
CATEGORIES:CKCP_Calendar Fun
DTSTART;TZID=America/New_York:20240722T000000
DTEND;TZID=America/New_York:20240722T235959
SUMMARY:The Isle Swim
URL:https://candlewoodknolls.com/index.php/ckcp-calendar/24-ckcp-calendar-f
 un/277-the-isle-swim
END:VEVENT
BEGIN:VEVENT
UID:20240716T090000UTC-53359vlC7G@https://candlewoodknolls.com/
DTSTAMP:20260425T152355Z
CATEGORIES:CKCP_Calendar Fun
DESCRIPTION:<p>Candlewood Knolls 95th Anniversary</p>
DTSTART;TZID=America/New_York:20240723T000000
DTEND;TZID=America/New_York:20240723T235959
SUMMARY:Theme Day: Dress like it's 1929!
URL:https://candlewoodknolls.com/index.php/ckcp-calendar/24-ckcp-calendar-f
 un/265-theme-day-dress-like-its-1929
X-ALT-DESC;FMTTYPE=TEXT/HTML:<p>Candlewood Knolls 95th Anniversary</p>
END:VEVENT
BEGIN:VEVENT
UID:20240723T120000UTC-9467aR1vZC@https://candlewoodknolls.com/
DTSTAMP:20260425T152355Z
CATEGORIES:CKCP_Calendar Fun
DTSTART;TZID=America/New_York:20240723T000000
DTEND;TZID=America/New_York:20240723T235959
SUMMARY:CWKC BIRTHDAY BAKE-OFF
URL:https://candlewoodknolls.com/index.php/ckcp-calendar/24-ckcp-calendar-f
 un/267-cwkc-birthday-bake-off
END:VEVENT
BEGIN:VEVENT
UID:20240724T120000UTC-0974SBVn8b@https://candlewoodknolls.com/
DTSTAMP:20260425T152355Z
CATEGORIES:CKCP_Calendar Fun
DTSTART;TZID=America/New_York:20240724T000000
DTEND;TZID=America/New_York:20240724T235959
SUMMARY:The Cave
URL:https://candlewoodknolls.com/index.php/ckcp-calendar/24-ckcp-calendar-f
 un/297-the-cave
END:VEVENT
BEGIN:VEVENT
UID:20240724T180000UTC-0719umsfSO@https://candlewoodknolls.com/
DTSTAMP:20260425T152355Z
CATEGORIES:CKCP_Calendar Fun
DTSTART;TZID=America/New_York:20240724T180000
DTEND;TZID=America/New_York:20240724T200000
SUMMARY:Pasta Night
URL:https://candlewoodknolls.com/index.php/ckcp-calendar/24-ckcp-calendar-f
 un/298-pasta-night
END:VEVENT
BEGIN:VEVENT
UID:20240725T190000UTC-22067uC3vC@https://candlewoodknolls.com/
DTSTAMP:20260425T152355Z
CATEGORIES:CKCP_Calendar Fun
DTSTART;TZID=America/New_York:20240725T190000
DTEND;TZID=America/New_York:20240725T200000
SUMMARY:Ice Cream Night (7pm)
URL:https://candlewoodknolls.com/index.php/ckcp-calendar/24-ckcp-calendar-f
 un/282-ice-cream-night-7pm-2
END:VEVENT
BEGIN:VEVENT
UID:20240726T120000UTC-448679vcJu@https://candlewoodknolls.com/
DTSTAMP:20260425T152355Z
CATEGORIES:CKCP_Calendar Fun
DTSTART;TZID=America/New_York:20240726T000000
DTEND;TZID=America/New_York:20240726T235959
SUMMARY:OLYMPIC WEEK: Opening Ceremonies Breakfast
URL:https://candlewoodknolls.com/index.php/ckcp-calendar/24-ckcp-calendar-f
 un/292-olympic-week-opening-ceremonies-breakfast
END:VEVENT
BEGIN:VEVENT
UID:20240726T130000UTC-2220SPMztM@https://candlewoodknolls.com/
DTSTAMP:20260425T152355Z
CATEGORIES:CKCP_Calendar Fun
DTSTART;TZID=America/New_York:20240726T000000
DTEND;TZID=America/New_York:20240726T235959
SUMMARY:Parent vs Campers Kickball Tournament
URL:https://candlewoodknolls.com/index.php/ckcp-calendar/24-ckcp-calendar-f
 un/294-parent-vs-campers-kickball-tournament
END:VEVENT
END:VCALENDAR
