BEGIN:VCALENDAR
VERSION:2.0
PRODID:-//https://candlewoodknolls.com//NONSGML kigkonsult.se iCalcreator 2.41.71//
CALSCALE:GREGORIAN
METHOD:PUBLISH
UID:35336339-6536-4933-b233-633837626338
X-WR-CALNAME:JCal Pro Calendar
X-WR-CALDESC:Your online events calendar
X-WR-TIMEZONE:America/New_York
BEGIN:VTIMEZONE
TZID:America/New_York
TZUNTIL:20271107T060000Z
BEGIN:STANDARD
TZNAME:EST
DTSTART:20251102T020000
TZOFFSETFROM:-0400
TZOFFSETTO:-0500
RDATE:20261101T020000
END:STANDARD
BEGIN:DAYLIGHT
TZNAME:EDT
DTSTART:20260308T020000
TZOFFSETFROM:-0500
TZOFFSETTO:-0400
RDATE:20270314T020000
END:DAYLIGHT
END:VTIMEZONE
BEGIN:VEVENT
UID:20240730T120000UTC-9852RJNflC@https://candlewoodknolls.com/
DTSTAMP:20260425T152416Z
CATEGORIES:CKCP_Calendar Fun
DESCRIPTION:<p>Track &amp\; Field (AM)</p>\n<p>Swimming (PM)</p>
DTSTART;TZID=America/New_York:20240730T000000
DTEND;TZID=America/New_York:20240730T235959
SUMMARY:OLYMPIC WEEK Day 2
URL:https://candlewoodknolls.com/index.php/ckcp-calendar/24-ckcp-calendar-f
 un/270-olympic-week-day-2
X-ALT-DESC;FMTTYPE=TEXT/HTML:<p>Track &amp\; Field (AM)</p>\n<p>Swimming (P
 M)</p>
END:VEVENT
BEGIN:VEVENT
UID:20240730T130000UTC-03033ZXRO7@https://candlewoodknolls.com/
DTSTAMP:20260425T152416Z
CATEGORIES:CKCP_Calendar Fun
DESCRIPTION:<p>Track &amp\; Field (AM)</p>\n<p>Swimming (PM)</p>
DTSTART;TZID=America/New_York:20240730T000000
DTEND;TZID=America/New_York:20240730T235959
SUMMARY:Theme Day: Dress in your countries colors!
URL:https://candlewoodknolls.com/index.php/ckcp-calendar/24-ckcp-calendar-f
 un/300-theme-day-dress-in-your-countries-colors
X-ALT-DESC;FMTTYPE=TEXT/HTML:<p>Track &amp\; Field (AM)</p>\n<p>Swimming (P
 M)</p>
END:VEVENT
END:VCALENDAR
