BEGIN:VCALENDAR
VERSION:2.0
PRODID:-//https://candlewoodknolls.com//NONSGML kigkonsult.se iCalcreator 2.41.71//
CALSCALE:GREGORIAN
METHOD:PUBLISH
UID:63363632-3834-4735-b233-326633353231
X-WR-CALNAME:JCal Pro Calendar
X-WR-CALDESC:Your online events calendar
X-WR-TIMEZONE:America/New_York
BEGIN:VTIMEZONE
TZID:America/New_York
TZUNTIL:20271107T060000Z
BEGIN:STANDARD
TZNAME:EST
DTSTART:20251102T020000
TZOFFSETFROM:-0400
TZOFFSETTO:-0500
RDATE:20261101T020000
END:STANDARD
BEGIN:DAYLIGHT
TZNAME:EDT
DTSTART:20260308T020000
TZOFFSETFROM:-0500
TZOFFSETTO:-0400
RDATE:20270314T020000
END:DAYLIGHT
END:VTIMEZONE
BEGIN:VEVENT
UID:20240719T130000UTC-0515AxdvUU@https://candlewoodknolls.com/
DTSTAMP:20260425T152426Z
CATEGORIES:CKCP_Calendar Fun
DTSTART;TZID=America/New_York:20240719T000000
DTEND;TZID=America/New_York:20240719T235959
SUMMARY:Tie Dye Day: Bring white items to tie dye
URL:https://candlewoodknolls.com/index.php/ckcp-calendar/24-ckcp-calendar-f
 un/289-tie-dye-day-bring-white-items-to-tie-dye
END:VEVENT
BEGIN:VEVENT
UID:20240719T140000UTC-0479NjNXL2@https://candlewoodknolls.com/
DTSTAMP:20260425T152426Z
CATEGORIES:CKCP_Calendar Fun
DTSTART;TZID=America/New_York:20240719T000000
DTEND;TZID=America/New_York:20240719T235959
SUMMARY:Popsicle Day
URL:https://candlewoodknolls.com/index.php/ckcp-calendar/24-ckcp-calendar-f
 un/290-popsicle-day
END:VEVENT
END:VCALENDAR
